BEGIN:VCALENDAR
VERSION:2.0
PRODID:icalendar-ruby
CALSCALE:GREGORIAN
METHOD:PUBLISH
BEGIN:VEVENT
DTSTAMP:20260423T041657Z
UID:146-6083631@squamishanglicanchurch.ca
DTSTART:20261029T160000Z
DTEND:20261029T190000Z
CLASS:PUBLIC
CREATED:20260422T180243
DESCRIPTION:The church office is open Wednesdays and Thursdays from 9 am - 
 12 pm.\n__________________________________________________________________
 _______________\n\nDrop in or give us a call! \nMeetings by appointment a
 re also available throughout the rest of the week. \nTo connect outside o
 f this time\, please leave a message on the church phone\, or send an emai
 l\, and someone will be in touch. 
LAST-MODIFIED:20260422T180243
LOCATION:
SUMMARY:Office Hours
URL;VALUE=URI:https://www.squamishanglicanchurch.ca/events/office-hours--14
 6/2026-10-29
END:VEVENT
END:VCALENDAR
